BEGIN:VCALENDAR
VERSION:2.0
PRODID:-//wp-events-plugin.com//7.2.3.1//EN
BEGIN:VEVENT
UID:2@firstnurture.co
DTSTART:20250301T093000Z
DTEND:20250331T123000Z
DTSTAMP:20241224T110453Z
URL:https://firstnurture.co/events/let-the-past-shape-the-future-social-di
 gital-and-technological-trends-drive-the-future-2/
SUMMARY:PROFESSIONAL CERTIFICATE  IN SUPERVISORY MANAGEMENT
DESCRIPTION:[vc_row][vc_column width="1/1"][vc_column_text]\nPROFESSIONAL C
 ERTIFICATE  IN SUPERVISORY MANAGEMENT \nPROGRAM OVERVIEW \nIn today's dyn
 amic business environment\, frontline employees who demonstrate outstandin
 g performance and leadership potential are frequently elevated to supervis
 ory roles. While this transition acknowledges their achievements\, it ofte
 n brings about a mix of emotions due to the shift from being an individual
  contributor to assuming leadership responsibilities. Without adequate pre
 paration\, the transition can be daunting\, potentially leading to decreas
 ed productivity\, diminished team morale and in some cases\, a step back t
 o non-leadership roles.\n\nRecognizing these challenges\, FIRST NURTURE IN
 TERNATIONAL has crafted a Supervisory Management Professional Certificate 
 program aimed at equipping these high-performing individuals with the nece
 ssary skills and knowledge to navigate their new roles effectively. This p
 rogram is meticulously designed to address the common hurdles HR departmen
 ts face during such transitions\, offering a practical\, time-efficient\, 
 and cost-effective solution.\n\nThe program focuses on transforming high a
 chievers into effective leaders and easing the transition for newly promot
 ed supervisors\, ensuring they can successfully manage their teams and con
 tribute to organizational success. It encompasses essential and advanced s
 upervisory skills\, enabling participants to forge strong connections with
  their teams and drive impactful results.\n\nThis Supervisory Development 
 Program (SDP) arms participants with the latest management strategies\, pr
 actical tools and techniques required for leadership in the contemporary b
 usiness landscape. Through interactive sessions and participatory exercise
 s\, the program aims to enhance employee performance by empowering them wi
 th the skills needed to motivate and lead their teams effectively.\n\n&nbs
 p\;\nHRDC APPROVED CLAIMABLE PROGRAM\nThe modules in this program are also
  approved as claimable by Human Resources Development Corporation under th
 eir Client claimable scheme to assist employers in retraining and up-skill
 ing employees in line with client’s operational and business requirement
 s.\nPROGRAM VALIDATION\nThe modules and content of the Supervisory Develop
 ment Program (SDP) have undergone thorough evaluation and approval by the 
 Centre for Professional Development at UMS Investment Holdings Sdn Bhd\, U
 niversity Sabah Malaysia.\n\nUpon fulfilling all program requisites and su
 ccessfully passing an audit conducted by our designated representatives\, 
 participants will be awarded the Professional Certificate in Supervisory M
 anagement. This certification underscores our dedication to ongoing qualit
 y enhancement.\nMODULES\nMODULE 1: MOVING FROM INDIVIDUAL CONTRIBUTOR TO A
  SUPERVISOR\n\nMODULE 2 : PLANNING AND ORGANIZING SKILLS FOR SUPERVISORS\n
 \nMODULE 3 : INTERPERSONAL COMMUNICATION SKILLS\n\nMODULE 4 : WORKPLACE PR
 OBLEM SOLVING AND DECISION MAKING FOR SUPERVISORS\n\nMODULE 5 : MANAGING E
 MPLOYEES’ PERFORMANCE AT WORKPLACE\n\nMODULE 6 : BUILDING A CULTURE OF E
 NGAGEMENT\n\n&nbsp\;\n\n&nbsp\;\n\nDownload[/vc_column_text][/vc_column][/
 vc_row]
ATTACH;FMTTYPE=image/jpeg:https://firstnurture.co/wp-content/uploads/2024/
 03/5740.jpg
LOCATION:https://maps.app.goo.gl/PFUvt4f7DWJxBCjg8
END:VEVENT
END:VCALENDAR